BEGIN:VCALENDAR
VERSION:2.0
PRODID:-//ddaysoftware.com//NONSGML DDay.iCal 1.0//EN
BEGIN:VTIMEZONE
TZID:W. Europe Standard Time
BEGIN:STANDARD
DTSTART:20251002T030000
RRULE:FREQ=YEARLY;BYDAY=-1SU;BYHOUR=3;BYMINUTE=0;BYMONTH=10
TZNAME:W. Europe Standard Time
TZOFFSETFROM:+0200
TZOFFSETTO:+0100
END:STANDARD
BEGIN:DAYLIGHT
DTSTART:20250301T020000
RRULE:FREQ=YEARLY;BYDAY=-1SU;BYHOUR=2;BYMINUTE=0;BYMONTH=3
TZNAME:W. Europe Daylight Time
TZOFFSETFROM:+0100
TZOFFSETTO:+0200
END:DAYLIGHT
END:VTIMEZONE
BEGIN:VEVENT
CATEGORIES:Sport
DESCRIPTION:\n\nVeranstalter: SC Schollbrunn\n\nhttps://www.schollbrunn.de/
 aktuelles/veranstaltungen/s-sc-schollbrunn-armin-eck-fussballschule-auf-de
 m-sportgelaende/
DTEND:20260606T000000
DTSTAMP:20260421T075452Z
DTSTART;VALUE=DATE:20260604
LOCATION:Sporthalle: Sportplatzweg 1\, 97852 Schollbrunn
SEQUENCE:0
SUMMARY:SC Schollbrunn: Armin-Eck-Fußballschule auf dem Sportgelände
UID:9351
URL:https://www.schollbrunn.de/aktuelles/veranstaltungen/s-sc-schollbrunn-a
 rmin-eck-fussballschule-auf-dem-sportgelaende/
END:VEVENT
BEGIN:VEVENT
CATEGORIES:Feiern\, Feste
CATEGORIES:Sport
DESCRIPTION:\n\nVeranstalter: SC Schollbrunn\n\nhttps://www.schollbrunn.de/
 aktuelles/veranstaltungen/s-sc-schollbrunn-kirchweih/
DTEND:20260713T000000
DTSTAMP:20260421T075452Z
DTSTART;VALUE=DATE:20260711
LOCATION:Sporthalle: Sportplatzweg 1\, 97852 Schollbrunn
SEQUENCE:0
SUMMARY:SC Schollbrunn: Kirchweih
UID:8359
URL:https://www.schollbrunn.de/aktuelles/veranstaltungen/s-sc-schollbrunn-k
 irchweih/
END:VEVENT
BEGIN:VEVENT
CATEGORIES:Sport
DESCRIPTION:\n\nVeranstalter: Wanderverein Schollbrunn\n\nhttps://www.schol
 lbrunn.de/aktuelles/veranstaltungen/s-wanderverein-schollbrunn-wandermaeus
 e-trekkingtour/
DTEND:20260719T000000
DTSTAMP:20260421T075452Z
DTSTART;VALUE=DATE:20260718
SEQUENCE:0
SUMMARY:Wanderverein Schollbrunn: Wandermäuse Trekkingtour 
UID:9366
URL:https://www.schollbrunn.de/aktuelles/veranstaltungen/s-wanderverein-sch
 ollbrunn-wandermaeuse-trekkingtour/
END:VEVENT
BEGIN:VEVENT
CATEGORIES:Sport
CATEGORIES:Feiern\, Feste
DESCRIPTION:\n\nVeranstalter: Wanderverein Schollbrunn\n\nhttps://www.schol
 lbrunn.de/aktuelles/veranstaltungen/s-wanderverein-schollbrunn-forellenfes
 t-am-dreimaerker/
DTEND;VALUE=DATE:20260914
DTSTAMP:20260421T075452Z
DTSTART;VALUE=DATE:20260913
SEQUENCE:0
SUMMARY:Wanderverein Schollbrunn: Forellenfest am Dreimärker
UID:8369
URL:https://www.schollbrunn.de/aktuelles/veranstaltungen/s-wanderverein-sch
 ollbrunn-forellenfest-am-dreimaerker/
END:VEVENT
BEGIN:VEVENT
CATEGORIES:Sport
DESCRIPTION:\n\nVeranstalter: Wanderverein Schollbrunn\n\nhttps://www.schol
 lbrunn.de/aktuelles/veranstaltungen/s-wanderverein-schollbrunn-zeltenbachs
 chlucht-klingenberg/
DTEND;VALUE=DATE:20260928
DTSTAMP:20260421T075452Z
DTSTART;VALUE=DATE:20260927
SEQUENCE:0
SUMMARY:Wanderverein Schollbrunn: Zeltenbachschlucht Klingenberg
UID:8357
URL:https://www.schollbrunn.de/aktuelles/veranstaltungen/s-wanderverein-sch
 ollbrunn-zeltenbachschlucht-klingenberg/
END:VEVENT
BEGIN:VEVENT
CATEGORIES:Sport
CATEGORIES:Feiern\, Feste
DESCRIPTION:\n\nVeranstalter: Wanderverein Schollbrunn\n\nhttps://www.schol
 lbrunn.de/aktuelles/veranstaltungen/s-wanderverein-schollbrunn-pollasch-ge
 denkfeier/
DTEND;VALUE=DATE:20261012
DTSTAMP:20260421T075452Z
DTSTART;VALUE=DATE:20261011
SEQUENCE:0
SUMMARY:Wanderverein Schollbrunn: Pollasch-Gedenkfeier
UID:8376
URL:https://www.schollbrunn.de/aktuelles/veranstaltungen/s-wanderverein-sch
 ollbrunn-pollasch-gedenkfeier/
END:VEVENT
BEGIN:VEVENT
CATEGORIES:Sport
DESCRIPTION:\n\nVeranstalter: Wanderverein Schollbrunn\n\nhttps://www.schol
 lbrunn.de/aktuelles/veranstaltungen/s-wanderverein-schollbrunn-halloweenfe
 ier/
DTEND;VALUE=DATE:20261101
DTSTAMP:20260421T075452Z
DTSTART;VALUE=DATE:20261031
SEQUENCE:0
SUMMARY:Wanderverein Schollbrunn: Halloweenfeier
UID:8347
URL:https://www.schollbrunn.de/aktuelles/veranstaltungen/s-wanderverein-sch
 ollbrunn-halloweenfeier/
END:VEVENT
BEGIN:VEVENT
CATEGORIES:Sport
DESCRIPTION:\n\nVeranstalter: Wanderverein Schollbrunn\n\nhttps://www.schol
 lbrunn.de/aktuelles/veranstaltungen/s-wanderverein-schollbrunn-laternenleu
 chten/
DTEND:20261113T190000
DTSTAMP:20260421T075452Z
DTSTART:20261113T180000
SEQUENCE:0
SUMMARY:Wanderverein Schollbrunn: Laternenleuchten
UID:9371
URL:https://www.schollbrunn.de/aktuelles/veranstaltungen/s-wanderverein-sch
 ollbrunn-laternenleuchten/
END:VEVENT
BEGIN:VEVENT
CATEGORIES:Sport
CATEGORIES:Versammlungen
DESCRIPTION:\n\nVeranstalter: Wanderverein Schollbrunn\n\nhttps://www.schol
 lbrunn.de/aktuelles/veranstaltungen/s-wanderverein-schollbrunn-jahreshaupt
 versammlung/
DTEND:20261121T180000
DTSTAMP:20260421T075452Z
DTSTART:20261121T170000
LOCATION:Haus Herrengrund: Herrengrund 1\, 97852 Schollbrunn
SEQUENCE:0
SUMMARY:Wanderverein Schollbrunn: Jahreshauptversammlung
UID:8395
URL:https://www.schollbrunn.de/aktuelles/veranstaltungen/s-wanderverein-sch
 ollbrunn-jahreshauptversammlung/
END:VEVENT
BEGIN:VEVENT
CATEGORIES:Sport
DESCRIPTION:\n\nVeranstalter: Wanderverein Schollbrunn\n\nhttps://www.schol
 lbrunn.de/aktuelles/veranstaltungen/s-wanderverein-schollbrunn-holzhackerm
 ahlzeit-nach-hasselberg/
DTEND;VALUE=DATE:20261230
DTSTAMP:20260421T075452Z
DTSTART;VALUE=DATE:20261229
SEQUENCE:0
SUMMARY:Wanderverein Schollbrunn: Wanderung zur Holzhackermahlzeit nach Has
 selberg
UID:9361
URL:https://www.schollbrunn.de/aktuelles/veranstaltungen/s-wanderverein-sch
 ollbrunn-holzhackermahlzeit-nach-hasselberg/
END:VEVENT
END:VCALENDAR
